BEGIN:VCALENDAR
VERSION:2.0
PRODID:-//Dracaena Wines - ECPv6.15.20//NONSGML v1.0//EN
CALSCALE:GREGORIAN
METHOD:PUBLISH
X-WR-CALNAME:Dracaena Wines
X-ORIGINAL-URL:https://dracaenawines.com
X-WR-CALDESC:Events for Dracaena Wines
REFRESH-INTERVAL;VALUE=DURATION:PT1H
X-Robots-Tag:noindex
X-PUBLISHED-TTL:PT1H
BEGIN:VTIMEZONE
TZID:America/Los_Angeles
BEGIN:DAYLIGHT
TZOFFSETFROM:-0800
TZOFFSETTO:-0700
TZNAME:PDT
DTSTART:20250309T100000
END:DAYLIGHT
BEGIN:STANDARD
TZOFFSETFROM:-0700
TZOFFSETTO:-0800
TZNAME:PST
DTSTART:20251102T090000
END:STANDARD
BEGIN:DAYLIGHT
TZOFFSETFROM:-0800
TZOFFSETTO:-0700
TZNAME:PDT
DTSTART:20260308T100000
END:DAYLIGHT
BEGIN:STANDARD
TZOFFSETFROM:-0700
TZOFFSETTO:-0800
TZNAME:PST
DTSTART:20261101T090000
END:STANDARD
BEGIN:DAYLIGHT
TZOFFSETFROM:-0800
TZOFFSETTO:-0700
TZNAME:PDT
DTSTART:20270314T100000
END:DAYLIGHT
BEGIN:STANDARD
TZOFFSETFROM:-0700
TZOFFSETTO:-0800
TZNAME:PST
DTSTART:20271107T090000
END:STANDARD
END:VTIMEZONE
BEGIN:VEVENT
DTSTART;TZID=America/Los_Angeles:20260924T173000
DTEND;TZID=America/Los_Angeles:20260924T193000
DTSTAMP:20260421T082829
CREATED:20260103T000320Z
LAST-MODIFIED:20260103T002217Z
UID:26313-1790271000-1790278200@dracaenawines.com
SUMMARY:4th Thursday Live Music - Emily Smith
DESCRIPTION:We are thrilled to welcome back to our 4th Thursday Music Series the sounds of Emily Smith. Renowned for her “soulful\, feel-good” blend of pop\, rock\, and country\, Emily brings a vibrant energy to any tasting room. This series offers the perfect mid-week escape—there is no admission fee to attend\, though we do kindly require a minimum purchase of one glass of wine to enjoy the performance. It’s the ultimate way to unwind: exceptional local talent\, a beautiful atmosphere\, and a crisp glass of your favorite vintage in hand.
URL:https://dracaenawines.com/event/4th-thursday-music-emily-smith/
LOCATION:Dracaena Wines Tasting Room\, 1244 Pine St Ste. 101 B\, Paso Robles\, CA\, 93446\, United States
ATTACH;FMTTYPE=image/jpeg:https://dracaenawines.com/wp-content/uploads/2025/12/Emily.jpg
ORGANIZER;CN="Dracaena Wines":MAILTO:contact@dracaenawines.com
END:VEVENT
END:VCALENDAR