BEGIN:VCALENDAR
VERSION:2.0
PRODID:-//Dracaena Wines - ECPv6.15.20//NONSGML v1.0//EN
CALSCALE:GREGORIAN
METHOD:PUBLISH
X-WR-CALNAME:Dracaena Wines
X-ORIGINAL-URL:https://dracaenawines.com
X-WR-CALDESC:Events for Dracaena Wines
REFRESH-INTERVAL;VALUE=DURATION:PT1H
X-Robots-Tag:noindex
X-PUBLISHED-TTL:PT1H
BEGIN:VTIMEZONE
TZID:America/Los_Angeles
BEGIN:DAYLIGHT
TZOFFSETFROM:-0800
TZOFFSETTO:-0700
TZNAME:PDT
DTSTART:20240310T100000
END:DAYLIGHT
BEGIN:STANDARD
TZOFFSETFROM:-0700
TZOFFSETTO:-0800
TZNAME:PST
DTSTART:20241103T090000
END:STANDARD
BEGIN:DAYLIGHT
TZOFFSETFROM:-0800
TZOFFSETTO:-0700
TZNAME:PDT
DTSTART:20250309T100000
END:DAYLIGHT
BEGIN:STANDARD
TZOFFSETFROM:-0700
TZOFFSETTO:-0800
TZNAME:PST
DTSTART:20251102T090000
END:STANDARD
BEGIN:DAYLIGHT
TZOFFSETFROM:-0800
TZOFFSETTO:-0700
TZNAME:PDT
DTSTART:20260308T100000
END:DAYLIGHT
BEGIN:STANDARD
TZOFFSETFROM:-0700
TZOFFSETTO:-0800
TZNAME:PST
DTSTART:20261101T090000
END:STANDARD
END:VTIMEZONE
BEGIN:VEVENT
DTSTART;TZID=America/Los_Angeles:20250425T200000
DTEND;TZID=America/Los_Angeles:20250425T220000
DTSTAMP:20260423T035737
CREATED:20250314T213228Z
LAST-MODIFIED:20250327T205730Z
UID:26000-1745611200-1745618400@dracaenawines.com
SUMMARY:SLO Funny Comedy Night
DESCRIPTION:Friday\, April 25th\, we have got SLOFunny Comedy Show packed to the rafters with laughter at Dracaena Wines in Downtown Paso Robles. Hosted by Mark Christopher Lawrence (Chuck\, Sirius XM\, iTunes\, Amazon Prime). Featuring: Matt Kirshen (NBC\, Comedy Central\, Netflix\, Showtime\, TruTV)\, PK\, Roni Shanell and Headliner Shaun Latham (The 20Dollar Chef\, Barstool Radio\, SiriusXM).\nDoors Open at 7:30pmShowtime 8pm
URL:https://dracaenawines.com/event/slo-funny-comedy-night/
LOCATION:Dracaena Wines Tasting Room\, 1244 Pine St Ste. 101 B\, Paso Robles\, CA\, 93446\, United States
CATEGORIES:Comedy
ATTACH;FMTTYPE=image/jpeg:https://dracaenawines.com/wp-content/uploads/2025/03/SLO.jpg
ORGANIZER;CN="SLOFunny":MAILTO:brian.traditions@gmail.com
END:VEVENT
END:VCALENDAR