BEGIN:VCALENDAR
VERSION:2.0
PRODID:-//Dracaena Wines - ECPv6.15.20//NONSGML v1.0//EN
CALSCALE:GREGORIAN
METHOD:PUBLISH
X-ORIGINAL-URL:https://dracaenawines.com
X-WR-CALDESC:Events for Dracaena Wines
REFRESH-INTERVAL;VALUE=DURATION:PT1H
X-Robots-Tag:noindex
X-PUBLISHED-TTL:PT1H
BEGIN:VTIMEZONE
TZID:America/Los_Angeles
BEGIN:DAYLIGHT
TZOFFSETFROM:-0800
TZOFFSETTO:-0700
TZNAME:PDT
DTSTART:20230312T100000
END:DAYLIGHT
BEGIN:STANDARD
TZOFFSETFROM:-0700
TZOFFSETTO:-0800
TZNAME:PST
DTSTART:20231105T090000
END:STANDARD
BEGIN:DAYLIGHT
TZOFFSETFROM:-0800
TZOFFSETTO:-0700
TZNAME:PDT
DTSTART:20240310T100000
END:DAYLIGHT
BEGIN:STANDARD
TZOFFSETFROM:-0700
TZOFFSETTO:-0800
TZNAME:PST
DTSTART:20241103T090000
END:STANDARD
BEGIN:DAYLIGHT
TZOFFSETFROM:-0800
TZOFFSETTO:-0700
TZNAME:PDT
DTSTART:20250309T100000
END:DAYLIGHT
BEGIN:STANDARD
TZOFFSETFROM:-0700
TZOFFSETTO:-0800
TZNAME:PST
DTSTART:20251102T090000
END:STANDARD
END:VTIMEZONE
BEGIN:VEVENT
DTSTART;TZID=America/Los_Angeles:20241021T180000
DTEND;TZID=America/Los_Angeles:20241021T210000
DTSTAMP:20260422T160157
CREATED:20240814T231419Z
LAST-MODIFIED:20240919T212023Z
UID:25750-1729533600-1729544400@dracaenawines.com
SUMMARY:Club SupSup Pop Up Dinner
DESCRIPTION:Sit down for an intimate dinner with other winelovers. Chef Candice delivers more than just an average dining experience. She has been on the Food Network’s Chopped and is a 2023-24 James Beard Legacy Network Cohort Alumni. These tickets are going to sell fast.  \nPrice is all inclusive. Each course served with a paired glass of wine. Additional bottles available for purchase 
URL:https://dracaenawines.com/event/club-supsup-pop-up-dinner/
LOCATION:Dracaena Wines Tasting Room\, 1244 Pine St Ste. 101 B\, Paso Robles\, CA\, 93446\, United States
CATEGORIES:Tasting Room special
ATTACH;FMTTYPE=image/jpeg:https://dracaenawines.com/wp-content/uploads/2024/08/October-21_DRA.jpg
ORGANIZER;CN="Club Sup Sup":MAILTO:chefcandicec@gmail.com
END:VEVENT
END:VCALENDAR