BEGIN:VCALENDAR
VERSION:2.0
PRODID:-//Dracaena Wines - ECPv6.15.20//NONSGML v1.0//EN
CALSCALE:GREGORIAN
METHOD:PUBLISH
X-WR-CALNAME:Dracaena Wines
X-ORIGINAL-URL:https://dracaenawines.com
X-WR-CALDESC:Events for Dracaena Wines
REFRESH-INTERVAL;VALUE=DURATION:PT1H
X-Robots-Tag:noindex
X-PUBLISHED-TTL:PT1H
BEGIN:VTIMEZONE
TZID:America/Los_Angeles
BEGIN:DAYLIGHT
TZOFFSETFROM:-0800
TZOFFSETTO:-0700
TZNAME:PDT
DTSTART:20250309T100000
END:DAYLIGHT
BEGIN:STANDARD
TZOFFSETFROM:-0700
TZOFFSETTO:-0800
TZNAME:PST
DTSTART:20251102T090000
END:STANDARD
BEGIN:DAYLIGHT
TZOFFSETFROM:-0800
TZOFFSETTO:-0700
TZNAME:PDT
DTSTART:20260308T100000
END:DAYLIGHT
BEGIN:STANDARD
TZOFFSETFROM:-0700
TZOFFSETTO:-0800
TZNAME:PST
DTSTART:20261101T090000
END:STANDARD
BEGIN:DAYLIGHT
TZOFFSETFROM:-0800
TZOFFSETTO:-0700
TZNAME:PDT
DTSTART:20270314T100000
END:DAYLIGHT
BEGIN:STANDARD
TZOFFSETFROM:-0700
TZOFFSETTO:-0800
TZNAME:PST
DTSTART:20271107T090000
END:STANDARD
END:VTIMEZONE
BEGIN:VEVENT
DTSTART;TZID=America/Los_Angeles:20260411T190000
DTEND;TZID=America/Los_Angeles:20260411T220000
DTSTAMP:20260421T132106
CREATED:20260401T022343Z
LAST-MODIFIED:20260401T022343Z
UID:26466-1775934000-1775944800@dracaenawines.com
SUMMARY:Chalk Club Pick Up Party!
DESCRIPTION:Spring is in the air\, and we have been busy behind the scenes preparing something truly special. We invite you to join us for our Spring Release Party\, where the wine will be flowing\, the food will be delicious\, and a long-awaited secret will finally be revealed! \n\nThe Big Reveal\nWe’ve been keeping a secret\, and the time has finally come to share it with you. We are officially debuting a brand-new\, mystery addition to our lineup. We aren’t dropping any hints just yet\, so you’ll have to be there in person to be among the very first to see the label and taste what’s inside the bottle. \nGames\, Grapes\, and Great Food\n\n\nThe Wine Jumble: Think you know your viticulture? Put your skills to the test with our Wine Jumble! It’s part puzzle\, part tasting challenge\, and 100% fun (with some prizes for the winners\, of course). \n\n\nSpring Sips & Bites: We’re pouring our newest seasonal releases alongside a curated selection of small bites designed to make those spring flavors pop. \n\n\nThe Good Times: Whether you’re relaxing on the patio or chatting at the bar\, it’s the perfect afternoon to celebrate the new season with friends and fellow wine lovers. \n\n\nFree for club members (up to two tickets) $20 for each additional ticket. Sign up now! 
URL:https://dracaenawines.com/event/chalk-club-pick-up-party-2/
LOCATION:Dracaena Wines Tasting Room\, 1244 Pine St Ste. 101 B\, Paso Robles\, CA\, 93446\, United States
CATEGORIES:Party
ATTACH;FMTTYPE=image/jpeg:https://dracaenawines.com/wp-content/uploads/2026/03/water-flower-balloon-wet-pool-swim-398900-pxhere.com_.jpg
ORGANIZER;CN="Dracaena Wines":MAILTO:contact@dracaenawines.com
END:VEVENT
END:VCALENDAR