BEGIN:VCALENDAR
VERSION:2.0
PRODID:-//Dracaena Wines - ECPv6.15.20//NONSGML v1.0//EN
CALSCALE:GREGORIAN
METHOD:PUBLISH
X-ORIGINAL-URL:https://dracaenawines.com
X-WR-CALDESC:Events for Dracaena Wines
REFRESH-INTERVAL;VALUE=DURATION:PT1H
X-Robots-Tag:noindex
X-PUBLISHED-TTL:PT1H
BEGIN:VTIMEZONE
TZID:America/Los_Angeles
BEGIN:DAYLIGHT
TZOFFSETFROM:-0800
TZOFFSETTO:-0700
TZNAME:PDT
DTSTART:20230312T100000
END:DAYLIGHT
BEGIN:STANDARD
TZOFFSETFROM:-0700
TZOFFSETTO:-0800
TZNAME:PST
DTSTART:20231105T090000
END:STANDARD
BEGIN:DAYLIGHT
TZOFFSETFROM:-0800
TZOFFSETTO:-0700
TZNAME:PDT
DTSTART:20240310T100000
END:DAYLIGHT
BEGIN:STANDARD
TZOFFSETFROM:-0700
TZOFFSETTO:-0800
TZNAME:PST
DTSTART:20241103T090000
END:STANDARD
BEGIN:DAYLIGHT
TZOFFSETFROM:-0800
TZOFFSETTO:-0700
TZNAME:PDT
DTSTART:20250309T100000
END:DAYLIGHT
BEGIN:STANDARD
TZOFFSETFROM:-0700
TZOFFSETTO:-0800
TZNAME:PST
DTSTART:20251102T090000
END:STANDARD
END:VTIMEZONE
BEGIN:VEVENT
DTSTART;TZID=America/Los_Angeles:20241102T130000
DTEND;TZID=America/Los_Angeles:20241102T160000
DTSTAMP:20260421T023903
CREATED:20240905T223529Z
LAST-MODIFIED:20240905T223529Z
UID:25760-1730552400-1730563200@dracaenawines.com
SUMMARY:Wine and Dine Pour Fest
DESCRIPTION:Proceeds directly support Honor Flight Central Coast California\nThe Wine & Dine Pour Fest\, a celebration of gourmet food\, fine wines\, and community spirit\, is set to take place on Saturday\, Nov. 2\, from 1 to 4 p.m. at the Paso Robles Airport Warbird Museum\, Hangar 1. This event is more than just a festival; it’s a heartfelt tribute to the brave men and women who have served our country. \nThe Wine & Dine Pour Fest will showcase the best of the Central Coast’s culinary and beverage offerings. Attendees will enjoy an array of gourmet food\, fine wines\, and craft beers; all included with the purchase of a $100 ticket\, which also includes a keepsake wine glass for sampling. \nEvery dollar raised from the Wine & Dine Pour Fest will directly support Honor Flight Central Coast California\, an organization dedicated to providing veterans with the recognition and experiences they deserve. Your participation in this event plays a vital role in creating these meaningful moments for our heroes.
URL:https://dracaenawines.com/event/wine-and-dine-pour-fest/
LOCATION:Estrella Warbirds Musuem\, 4251 Dry Creek Rd\,\, Paso Robles\, CA\, 93446\, United States
CATEGORIES:Pouring Event
ATTACH;FMTTYPE=image/jpeg:https://dracaenawines.com/wp-content/uploads/2024/09/Wine-Dine-1-1-scaled.jpg
ORGANIZER;CN="Honor Flight Central Coast":MAILTO:PourFest@honorflightccc.org
END:VEVENT
BEGIN:VEVENT
DTSTART;TZID=America/Los_Angeles:20241116T140000
DTEND;TZID=America/Los_Angeles:20241116T180000
DTSTAMP:20260421T023903
CREATED:20241028T211009Z
LAST-MODIFIED:20241028T211009Z
UID:25781-1731765600-1731780000@dracaenawines.com
SUMMARY:Pet Caricature Day!
DESCRIPTION:Join us for a tail-wagging good time at Dracaena Wines\, the most dog-friendly winery in Paso Robles! We’re thrilled to partner with talented artist Savannah Reifers for a special Pet Caricature Day\, where your furry friends can shine. \nBring your beloved pets into our welcoming tasting room and choose from two delightful options: \n\nFull-Color Caricature: A charming 7×10″ paper portrait for just $35. Capture your pet’s unique personality in vibrant colors!\nTote Bag with Caricature: A stylish standard-size tote featuring a black and white caricature for $45. Perfect for carrying your goodies while showing off your pup’s adorable likeness!\n\nAs you indulge in our award-winning portfolio of wines—recognized by Decanter Magazine as one of the top 30 wineries in Paso Robles—enjoy the company of fellow pet lovers and take in some of our artisanal jams/preserves and wine infused chocolates . \nDon’t miss this paw-some opportunity to create lasting memories with your pet and take home a unique keepsake. Grab your furry friend and join us for a day of fun\, wine\, and artistic expression! \nWe can’t wait to see you and your pets! 🐾🍷
URL:https://dracaenawines.com/event/pet-caricature-day/
LOCATION:Dracaena Wines Tasting Room\, 1244 Pine St Ste. 101 B\, Paso Robles\, CA\, 93446\, United States
CATEGORIES:Tasting Room special
ATTACH;FMTTYPE=image/jpeg:https://dracaenawines.com/wp-content/uploads/2024/10/Savannah_Reifers_Ex4-scaled.jpg
ORGANIZER;CN="Dracaena Wines":MAILTO:contact@dracaenawines.com
END:VEVENT
END:VCALENDAR