BEGIN:VCALENDAR
VERSION:2.0
PRODID:-//Dracaena Wines - ECPv6.15.20//NONSGML v1.0//EN
CALSCALE:GREGORIAN
METHOD:PUBLISH
X-ORIGINAL-URL:https://dracaenawines.com
X-WR-CALDESC:Events for Dracaena Wines
REFRESH-INTERVAL;VALUE=DURATION:PT1H
X-Robots-Tag:noindex
X-PUBLISHED-TTL:PT1H
BEGIN:VTIMEZONE
TZID:America/Los_Angeles
BEGIN:DAYLIGHT
TZOFFSETFROM:-0800
TZOFFSETTO:-0700
TZNAME:PDT
DTSTART:20250309T100000
END:DAYLIGHT
BEGIN:STANDARD
TZOFFSETFROM:-0700
TZOFFSETTO:-0800
TZNAME:PST
DTSTART:20251102T090000
END:STANDARD
BEGIN:DAYLIGHT
TZOFFSETFROM:-0800
TZOFFSETTO:-0700
TZNAME:PDT
DTSTART:20260308T100000
END:DAYLIGHT
BEGIN:STANDARD
TZOFFSETFROM:-0700
TZOFFSETTO:-0800
TZNAME:PST
DTSTART:20261101T090000
END:STANDARD
BEGIN:DAYLIGHT
TZOFFSETFROM:-0800
TZOFFSETTO:-0700
TZNAME:PDT
DTSTART:20270314T100000
END:DAYLIGHT
BEGIN:STANDARD
TZOFFSETFROM:-0700
TZOFFSETTO:-0800
TZNAME:PST
DTSTART:20271107T090000
END:STANDARD
END:VTIMEZONE
BEGIN:VEVENT
DTSTART;TZID=America/Los_Angeles:20260521T180000
DTEND;TZID=America/Los_Angeles:20260521T200000
DTSTAMP:20260421T184246
CREATED:20260414T185308Z
LAST-MODIFIED:20260414T185308Z
UID:26470-1779386400-1779393600@dracaenawines.com
SUMMARY:Trivia Series: Friends
DESCRIPTION:The One With All The Trivia a Week Later Than Normal\nCould we BE any more excited? It’s time to put down the coffee mugs and pick up a wine glass. We’re hosting a Friends Trivia Night that would make Ross Geller (and his PhD) proud. Whether you’re a “Smelly Cat” enthusiast or you actually know what Chandler Bing does for a living\, this is the night to prove your fandom. \nThe Details\n\nWhen: Thursday May 21st\, 6pm (next month will be back to the 2nd Thursday)\nWhere: Dracaena Wines Tasting Room | 1244 Pine St. 101B\, Paso Robles\nTeams: Play by yourself or as a team.(Choose your team name wisely—The Rembrandts? The Holiday Armadillos? Regina Phalange & Co.?!)\n\nWhat’s On The Menu?\nWhile we don’t have Rachel’s traditional English Trifle (thankfully\, there is no beef sautéed with peas and onions here)\, we will have our full flight of wines and craft drinks available. Grab a glass\, pull up a chair in our cozy indoor space\, and prepare to PIVOT your brain into trivia mode.
URL:https://dracaenawines.com/event/trivia-series-friends/
LOCATION:Dracaena Wines Tasting Room\, 1244 Pine St Ste. 101 B\, Paso Robles\, CA\, 93446\, United States
CATEGORIES:Trivia
ATTACH;FMTTYPE=image/png:https://dracaenawines.com/wp-content/uploads/2026/04/friends.png
ORGANIZER;CN="Dracaena Wines":MAILTO:contact@dracaenawines.com
END:VEVENT
BEGIN:VEVENT
DTSTART;TZID=America/Los_Angeles:20260528T173000
DTEND;TZID=America/Los_Angeles:20260528T203000
DTSTAMP:20260421T184246
CREATED:20251202T163725Z
LAST-MODIFIED:20260103T002126Z
UID:26275-1779989400-1780000200@dracaenawines.com
SUMMARY:4th Thursday Live Music - Rolf G.
DESCRIPTION:Settle in for a wonderful evening of live music! We are delighted to welcome talented singer/songwriter Rolf G. to the tasting room on Thursday\, May 28th\, from 5:30 PM to 8:30 PM. Known for his captivating acoustic style\, Rolf’s performance is the perfect soundtrack to unwind and enjoy your favorite glass of wine. Come relax and enjoy the tunes!  **Please note: a drink purchase is required to enjoy the live music in the tasting room. 
URL:https://dracaenawines.com/event/4th-thursday-live-music-series-rolf-g/
LOCATION:Dracaena Wines Tasting Room\, 1244 Pine St Ste. 101 B\, Paso Robles\, CA\, 93446\, United States
CATEGORIES:music
ATTACH;FMTTYPE=image/jpeg:https://dracaenawines.com/wp-content/uploads/2025/12/Rolf-1.jpg
ORGANIZER;CN="Dracaena Wines":MAILTO:contact@dracaenawines.com
END:VEVENT
BEGIN:VEVENT
DTSTART;TZID=America/Los_Angeles:20260924T173000
DTEND;TZID=America/Los_Angeles:20260924T193000
DTSTAMP:20260421T184246
CREATED:20260103T000320Z
LAST-MODIFIED:20260103T002217Z
UID:26313-1790271000-1790278200@dracaenawines.com
SUMMARY:4th Thursday Live Music - Emily Smith
DESCRIPTION:We are thrilled to welcome back to our 4th Thursday Music Series the sounds of Emily Smith. Renowned for her “soulful\, feel-good” blend of pop\, rock\, and country\, Emily brings a vibrant energy to any tasting room. This series offers the perfect mid-week escape—there is no admission fee to attend\, though we do kindly require a minimum purchase of one glass of wine to enjoy the performance. It’s the ultimate way to unwind: exceptional local talent\, a beautiful atmosphere\, and a crisp glass of your favorite vintage in hand.
URL:https://dracaenawines.com/event/4th-thursday-music-emily-smith/
LOCATION:Dracaena Wines Tasting Room\, 1244 Pine St Ste. 101 B\, Paso Robles\, CA\, 93446\, United States
ATTACH;FMTTYPE=image/jpeg:https://dracaenawines.com/wp-content/uploads/2025/12/Emily.jpg
ORGANIZER;CN="Dracaena Wines":MAILTO:contact@dracaenawines.com
END:VEVENT
BEGIN:VEVENT
DTSTART;TZID=America/Los_Angeles:20261022T173000
DTEND;TZID=America/Los_Angeles:20261022T203000
DTSTAMP:20260421T184246
CREATED:20260103T002019Z
LAST-MODIFIED:20260103T002152Z
UID:26315-1792690200-1792701000@dracaenawines.com
SUMMARY:4th Thursday Live Music - Sami Rousi
DESCRIPTION:Sami Rousi captivates our 4th Thursday Live Music Series in the tasting room with his soulful acoustic melodies and heartfelt folk-pop vibes that evoke the warmth of the California coast. Known for his emotive vocals and intricate guitar work\, he weaves original songs and beloved covers into an intimate performance perfect for unwinding mid-week. No admission fee is required\, though a minimum purchase of one glass of wine is kindly expected—pair his enchanting sounds with your favorite vintage for an evening of pure relaxation and local talent.
URL:https://dracaenawines.com/event/4th-thursday-music-sami-rousi/
LOCATION:Dracaena Wines Tasting Room\, 1244 Pine St Ste. 101 B\, Paso Robles\, CA\, 93446\, United States
CATEGORIES:music
ATTACH;FMTTYPE=image/jpeg:https://dracaenawines.com/wp-content/uploads/2026/01/sami-1470-1.jpg
ORGANIZER;CN="Dracaena Wines":MAILTO:contact@dracaenawines.com
END:VEVENT
END:VCALENDAR