BEGIN:VCALENDAR
VERSION:2.0
PRODID:-//Dracaena Wines - ECPv6.15.20//NONSGML v1.0//EN
CALSCALE:GREGORIAN
METHOD:PUBLISH
X-WR-CALNAME:Dracaena Wines
X-ORIGINAL-URL:https://dracaenawines.com
X-WR-CALDESC:Events for Dracaena Wines
REFRESH-INTERVAL;VALUE=DURATION:PT1H
X-Robots-Tag:noindex
X-PUBLISHED-TTL:PT1H
BEGIN:VTIMEZONE
TZID:America/Los_Angeles
BEGIN:DAYLIGHT
TZOFFSETFROM:-0800
TZOFFSETTO:-0700
TZNAME:PDT
DTSTART:20220313T100000
END:DAYLIGHT
BEGIN:STANDARD
TZOFFSETFROM:-0700
TZOFFSETTO:-0800
TZNAME:PST
DTSTART:20221106T090000
END:STANDARD
BEGIN:DAYLIGHT
TZOFFSETFROM:-0800
TZOFFSETTO:-0700
TZNAME:PDT
DTSTART:20230312T100000
END:DAYLIGHT
BEGIN:STANDARD
TZOFFSETFROM:-0700
TZOFFSETTO:-0800
TZNAME:PST
DTSTART:20231105T090000
END:STANDARD
BEGIN:DAYLIGHT
TZOFFSETFROM:-0800
TZOFFSETTO:-0700
TZNAME:PDT
DTSTART:20240310T100000
END:DAYLIGHT
BEGIN:STANDARD
TZOFFSETFROM:-0700
TZOFFSETTO:-0800
TZNAME:PST
DTSTART:20241103T090000
END:STANDARD
END:VTIMEZONE
BEGIN:VEVENT
DTSTART;TZID=America/Los_Angeles:20230816T180000
DTEND;TZID=America/Los_Angeles:20230816T200000
DTSTAMP:20260421T104458
CREATED:20230711T170818Z
LAST-MODIFIED:20230711T170818Z
UID:25079-1692208800-1692216000@dracaenawines.com
SUMMARY:Trivia Night - Harry Potter
DESCRIPTION:Do you know who was the first victim to be petrified by the basilisk? Or which position does Harry play on the Gryffindor Quidditch team? Do you brag that you know all there is to know about Harry Potter? We challenge you to come to our Harry Potter Trivia night and prove you can pass your O.W.L! Free to play.
URL:https://dracaenawines.com/event/trivia-night-harry-potter/
LOCATION:Dracaena Wines Tasting Room\, 1244 Pine St Ste. 101 B\, Paso Robles\, CA\, 93446\, United States
CATEGORIES:Trivia
ATTACH;FMTTYPE=image/png:https://dracaenawines.com/wp-content/uploads/2023/07/EVENTS-2.png
ORGANIZER;CN="Dracaena Wines":MAILTO:contact@dracaenawines.com
END:VEVENT
BEGIN:VEVENT
DTSTART;TZID=America/Los_Angeles:20230729T140000
DTEND;TZID=America/Los_Angeles:20230729T160000
DTSTAMP:20260421T104458
CREATED:20230626T215852Z
LAST-MODIFIED:20230626T215852Z
UID:25043-1690639200-1690646400@dracaenawines.com
SUMMARY:Live Music - Jody Mulgrew
DESCRIPTION:Join us for an intimate performance Jody Mulgrew on Saturday\, July 29th from 2-4pm. Wine and snacks available for purchase.
URL:https://dracaenawines.com/event/live-music-jody-mulgrew-2/
LOCATION:Dracaena Wines Tasting Room\, 1244 Pine St Ste. 101 B\, Paso Robles\, CA\, 93446\, United States
CATEGORIES:music
ATTACH;FMTTYPE=image/jpeg:https://dracaenawines.com/wp-content/uploads/2023/06/download-3-e1687816680135.jpg
ORGANIZER;CN="Dracaena Wines":MAILTO:contact@dracaenawines.com
END:VEVENT
BEGIN:VEVENT
DTSTART;TZID=America/Los_Angeles:20230715T160000
DTEND;TZID=America/Los_Angeles:20230715T190000
DTSTAMP:20260421T104458
CREATED:20230626T220506Z
LAST-MODIFIED:20230627T025749Z
UID:25046-1689436800-1689447600@dracaenawines.com
SUMMARY:Downtown Summer Evening Wine Walk
DESCRIPTION:Beat the heat with an evening wine walk!! Taste the diversity of the Downtown Paso Robles Wine District. 18 wineries pouring 11 Paso Robles AVAs with gourmet food pairings. July 15 from 4-7 pm. We plan on pouring our Rosé paired with homemade strawberry shortcake.
URL:https://dracaenawines.com/event/downtown-summer-evening-wine-walk-2/
LOCATION:CA
CATEGORIES:Downtown Association
ATTACH;FMTTYPE=image/jpeg:https://dracaenawines.com/wp-content/uploads/2023/06/Summer-evening-stroll-2023.jpg
END:VEVENT
BEGIN:VEVENT
DTSTART;TZID=America/Los_Angeles:20230712T180000
DTEND;TZID=America/Los_Angeles:20230712T200000
DTSTAMP:20260421T104458
CREATED:20230626T213905Z
LAST-MODIFIED:20230626T214205Z
UID:25034-1689184800-1689192000@dracaenawines.com
SUMMARY:Trivia Night - Friends Edition
DESCRIPTION:Do you know who was Monica’s first kiss? How about which Friends character has a twin? Do you brag that you know all there is to know about Friends? We challenge you to come to our Friends Trivia night and prove you are the biggest Friends Fanatic! Free to play. (click title for full information)
URL:https://dracaenawines.com/event/trivia-night-friends-edition-2/
LOCATION:Dracaena Wines Tasting Room\, 1244 Pine St Ste. 101 B\, Paso Robles\, CA\, 93446\, United States
ATTACH;FMTTYPE=image/png:https://dracaenawines.com/wp-content/uploads/2023/06/Eventbrite-Header-1.png
ORGANIZER;CN="Dracaena Wines":MAILTO:contact@dracaenawines.com
END:VEVENT
BEGIN:VEVENT
DTSTART;TZID=America/Los_Angeles:20230708T180000
DTEND;TZID=America/Los_Angeles:20230708T190000
DTSTAMP:20260421T104458
CREATED:20230626T215431Z
LAST-MODIFIED:20230626T215431Z
UID:25040-1688839200-1688842800@dracaenawines.com
SUMMARY:Virtual Tasting Class
DESCRIPTION:Receive four 4oz pours. A full glass of each of our wines: Cordyline Rosé\, Chenin Blanc\, Classic Cabernet Franc\, and Phoenix. We will include as well as additional fun tasting materials. Tasting will last about 45 minutes. No additional discounts. Shipping can be to different addresses.  
URL:https://dracaenawines.com/event/virtual-tasting-class/
LOCATION:Online Event
CATEGORIES:Virtual
ATTACH;FMTTYPE=image/png:https://dracaenawines.com/wp-content/uploads/2023/06/imageedit_20_2820647041.png
ORGANIZER;CN="Dracaena Wines":MAILTO:contact@dracaenawines.com
END:VEVENT
BEGIN:VEVENT
DTSTART;TZID=America/Los_Angeles:20230422T120000
DTEND;TZID=America/Los_Angeles:20230423T200000
DTSTAMP:20260421T104458
CREATED:20230309T013702Z
LAST-MODIFIED:20230309T013702Z
UID:24835-1682164800-1682280000@dracaenawines.com
SUMMARY:Wine 4 Paws Weekend
DESCRIPTION:Join us April 22-23 for the annual Wine 4 Paws event. Schedule your tasting during this weekend\, and we will donate 10% off all the proceeds to the Woods Humane Society. It’s a win-win event. You get to try and purchase our award winning wines and at the same time help the animals that need to find a furever home.  \nIf you can’t make it in person\, no  problem! Purchase online and we will still make the donation. It all about the animals! \nWine 4 Paws is a special weekend on the Central Coast to help raise money for homeless pets. \nVisit any of 75+ wine\, cider\, and olive oil producers throughout SLO County April 22 – 23\, when they donate 10% of sales to Woods Humane Society. Voila!  You’ve just helped homeless animals in our area\, all while supporting local businesses.​ \nNo need to buy a ticket\, and you don’t have to pre-register. Visit the wineries page for a full list\, and check back in March to download or print our FREE MAP.  Then head out in April and have a great time!​ \nAlthough Wine 4 Paws is not intended to be a “take your dog wine tasting” weekend – we get it! So\, if you do bring your dog we ask that you follow some guidelines\, found HERE.  \nIf you prefer to just make a donation\, please click here. 
URL:https://dracaenawines.com/event/wine-4-paws-weekend/
LOCATION:Dracaena Wines Tasting Room\, 1244 Pine St Ste. 101 B\, Paso Robles\, CA\, 93446\, United States
CATEGORIES:Fundraiser
ATTACH;FMTTYPE=image/jpeg:https://dracaenawines.com/wp-content/uploads/2023/03/FB-Event-cover1-1200x686-1.jpg
ORGANIZER;CN="Woods Humane Society":MAILTO:info@wine4paws.com
END:VEVENT
BEGIN:VEVENT
DTSTART;TZID=America/Los_Angeles:20230408T130000
DTEND;TZID=America/Los_Angeles:20230408T160000
DTSTAMP:20260421T104458
CREATED:20230309T022732Z
LAST-MODIFIED:20230309T022732Z
UID:24840-1680958800-1680969600@dracaenawines.com
SUMMARY:Downtown Spring Wine Walk
DESCRIPTION:Join us Saturday April 8th for our first downtown wine association event.  The Spring Wine Walk is a great way to taste some spectacular wine from over 15 wineries all within walking distance.  Registration is $65 or $55 if you sign up prior to March 30th.  You will check in at one of the participating wineries and will be provided with a map. Each winery will be serving up a tasting of their wine along with a small bite food pairing.  \nTaste the diversity of the Downtown Paso Robles Wine District. 16 wineries pouring 11 Paso Robles AVAs with gourmet food pairings.
URL:https://dracaenawines.com/event/downtown-spring-wine-walk/
LOCATION:CA
CATEGORIES:Downtown Association
ATTACH;FMTTYPE=image/jpeg:https://dracaenawines.com/wp-content/uploads/2023/03/ba43e2_34297cd000b94a48961161c8e41245db_mv2.jpg
END:VEVENT
BEGIN:VEVENT
DTSTART;TZID=America/Los_Angeles:20230318T120000
DTEND;TZID=America/Los_Angeles:20230318T200000
DTSTAMP:20260421T104458
CREATED:20230309T012030Z
LAST-MODIFIED:20230309T012156Z
UID:24829-1679140800-1679169600@dracaenawines.com
SUMMARY:Grand Opening Celebration
DESCRIPTION:Join us Saturday\, March 18th as we celebrate our grand opening of the tasting room in downtown Paso Robles.  Located at 1244 Pine St. Ste. 101B.  We will be open noon through 8:00pm. There will be two for one tastings\, small bites and even a raffle to win some prizes. 
URL:https://dracaenawines.com/event/grand-opening-celebration/
LOCATION:Dracaena Wines Tasting Room\, 1244 Pine St Ste. 101 B\, Paso Robles\, CA\, 93446\, United States
CATEGORIES:Party
ATTACH;FMTTYPE=image/png:https://dracaenawines.com/wp-content/uploads/2023/03/Grand-Opening-Facebook-Event-Cover.png
ORGANIZER;CN="Dracaena Wines":MAILTO:contact@dracaenawines.com
END:VEVENT
END:VCALENDAR