BEGIN:VCALENDAR
VERSION:2.0
PRODID:-//Dracaena Wines - ECPv6.15.20//NONSGML v1.0//EN
CALSCALE:GREGORIAN
METHOD:PUBLISH
X-WR-CALNAME:Dracaena Wines
X-ORIGINAL-URL:https://dracaenawines.com
X-WR-CALDESC:Events for Dracaena Wines
REFRESH-INTERVAL;VALUE=DURATION:PT1H
X-Robots-Tag:noindex
X-PUBLISHED-TTL:PT1H
BEGIN:VTIMEZONE
TZID:America/Los_Angeles
BEGIN:DAYLIGHT
TZOFFSETFROM:-0800
TZOFFSETTO:-0700
TZNAME:PDT
DTSTART:20250309T100000
END:DAYLIGHT
BEGIN:STANDARD
TZOFFSETFROM:-0700
TZOFFSETTO:-0800
TZNAME:PST
DTSTART:20251102T090000
END:STANDARD
BEGIN:DAYLIGHT
TZOFFSETFROM:-0800
TZOFFSETTO:-0700
TZNAME:PDT
DTSTART:20260308T100000
END:DAYLIGHT
BEGIN:STANDARD
TZOFFSETFROM:-0700
TZOFFSETTO:-0800
TZNAME:PST
DTSTART:20261101T090000
END:STANDARD
BEGIN:DAYLIGHT
TZOFFSETFROM:-0800
TZOFFSETTO:-0700
TZNAME:PDT
DTSTART:20270314T100000
END:DAYLIGHT
BEGIN:STANDARD
TZOFFSETFROM:-0700
TZOFFSETTO:-0800
TZNAME:PST
DTSTART:20271107T090000
END:STANDARD
END:VTIMEZONE
BEGIN:VEVENT
DTSTART;TZID=America/Los_Angeles:20260423T180000
DTEND;TZID=America/Los_Angeles:20260423T210000
DTSTAMP:20260423T014817
CREATED:20251202T153318Z
LAST-MODIFIED:20260331T044322Z
UID:26270-1776967200-1776978000@dracaenawines.com
SUMMARY:4th Thursday Live Music - Joy Bonner
DESCRIPTION:Joy Bonner Band lights up our 4th Thursday Live Music Series in the tasting room with a high-energy mix of rockin’ funky old soul\, timeless classics\, and current hits that get everyone on their feet. Fronted by Joy’s powerhouse vocals and backed by skilled musicians\, they deliver danceable covers from soulful standards to modern favorites in a polished\, feel-good style. This series is the ideal mid-week unwind—no admission fee required\, though a minimum purchase of one glass of wine is kindly expected to enjoy the show alongside great company and the perfect pour. \n 
URL:https://dracaenawines.com/event/joy-bonner-live-in-the-tasting-room/
LOCATION:Dracaena Wines Tasting Room\, 1244 Pine St Ste. 101 B\, Paso Robles\, CA\, 93446\, United States
CATEGORIES:music
ATTACH;FMTTYPE=image/jpeg:https://dracaenawines.com/wp-content/uploads/2025/12/joybonner.jpg
ORGANIZER;CN="Dracaena Wines":MAILTO:contact@dracaenawines.com
END:VEVENT
END:VCALENDAR